BEGIN:VCALENDAR
VERSION:2.0
PRODID:-//Independent Loyal Orange Institution - ECPv6.15.13.1//NONSGML v1.0//EN
CALSCALE:GREGORIAN
METHOD:PUBLISH
X-WR-CALNAME:Independent Loyal Orange Institution
X-ORIGINAL-URL:https://iloi.org
X-WR-CALDESC:Events for Independent Loyal Orange Institution
REFRESH-INTERVAL;VALUE=DURATION:PT1H
X-Robots-Tag:noindex
X-PUBLISHED-TTL:PT1H
BEGIN:VTIMEZONE
TZID:Europe/London
BEGIN:DAYLIGHT
TZOFFSETFROM:+0000
TZOFFSETTO:+0100
TZNAME:BST
DTSTART:20240331T010000
END:DAYLIGHT
BEGIN:STANDARD
TZOFFSETFROM:+0100
TZOFFSETTO:+0000
TZNAME:GMT
DTSTART:20241027T010000
END:STANDARD
BEGIN:DAYLIGHT
TZOFFSETFROM:+0000
TZOFFSETTO:+0100
TZNAME:BST
DTSTART:20250330T010000
END:DAYLIGHT
BEGIN:STANDARD
TZOFFSETFROM:+0100
TZOFFSETTO:+0000
TZNAME:GMT
DTSTART:20251026T010000
END:STANDARD
BEGIN:DAYLIGHT
TZOFFSETFROM:+0000
TZOFFSETTO:+0100
TZNAME:BST
DTSTART:20260329T010000
END:DAYLIGHT
BEGIN:STANDARD
TZOFFSETFROM:+0100
TZOFFSETTO:+0000
TZNAME:GMT
DTSTART:20261025T010000
END:STANDARD
END:VTIMEZONE
BEGIN:VEVENT
DTSTART;TZID=Europe/London:20250525T144500
DTEND;TZID=Europe/London:20250525T173000
DTSTAMP:20260419T164612
CREATED:20210510T141728Z
LAST-MODIFIED:20260405T194624Z
UID:88882-1748184300-1748194200@iloi.org
SUMMARY:Rasharkin District No. 3 Church Parade
DESCRIPTION:Rasharkin District No. 3 Church Parade Will be held on Sunday 25 May D.V. Assembling at the turnpike at 2.45 to parade the village to Rasharkin Presbyterian Church where a service will be held at 3.30pm. \nAll members of the Loyal Orders are invited to join us on parade with the public cordially invited to join us for worship.
URL:https://iloi.org/event/rasharkin-district-no-3-church-parade/
LOCATION:Rasharkin Presbyterian Church\, 10 Moneyleck Rd\,\, Rasharkin\, BT44 8QB\, United Kingdom
CATEGORIES:Church Parade,Parade
ATTACH;FMTTYPE=image/jpeg:https://iloi.org/wp-content/uploads/2025/03/IMG_4184.jpeg
END:VEVENT
END:VCALENDAR