BEGIN:VCALENDAR
VERSION:2.0
PRODID:-//Independent Loyal Orange Institution - ECPv6.15.13.1//NONSGML v1.0//EN
CALSCALE:GREGORIAN
METHOD:PUBLISH
X-ORIGINAL-URL:https://iloi.org
X-WR-CALDESC:Events for Independent Loyal Orange Institution
REFRESH-INTERVAL;VALUE=DURATION:PT1H
X-Robots-Tag:noindex
X-PUBLISHED-TTL:PT1H
BEGIN:VTIMEZONE
TZID:Europe/London
BEGIN:DAYLIGHT
TZOFFSETFROM:+0000
TZOFFSETTO:+0100
TZNAME:BST
DTSTART:20210328T010000
END:DAYLIGHT
BEGIN:STANDARD
TZOFFSETFROM:+0100
TZOFFSETTO:+0000
TZNAME:GMT
DTSTART:20211031T010000
END:STANDARD
BEGIN:DAYLIGHT
TZOFFSETFROM:+0000
TZOFFSETTO:+0100
TZNAME:BST
DTSTART:20220327T010000
END:DAYLIGHT
BEGIN:STANDARD
TZOFFSETFROM:+0100
TZOFFSETTO:+0000
TZNAME:GMT
DTSTART:20221030T010000
END:STANDARD
BEGIN:DAYLIGHT
TZOFFSETFROM:+0000
TZOFFSETTO:+0100
TZNAME:BST
DTSTART:20230326T010000
END:DAYLIGHT
BEGIN:STANDARD
TZOFFSETFROM:+0100
TZOFFSETTO:+0000
TZNAME:GMT
DTSTART:20231029T010000
END:STANDARD
END:VTIMEZONE
BEGIN:VEVENT
DTSTART;VALUE=DATE:20220528
DTEND;VALUE=DATE:20220529
DTSTAMP:20260422T032617
CREATED:20220513T194301Z
LAST-MODIFIED:20220513T194527Z
UID:88035-1653696000-1653782399@iloi.org
SUMMARY:Northern Ireland Centenary Parade
DESCRIPTION:The Institution have accepted an invitation from the Grand Orange lodge of Ireland to attend the postponed  from Stormont to Belfast City Hall. As the last of the large scale Decade of Centenary Events we are running busses from Ballymoney stopping at Ballymena for lodges and supporters. \n \nFollowing a meeting with the Grand Orange Lodge of Ireland CentenNIal parade organisers it has been decided that our busses for the event on Saturday 28th May need to leave Seymour Street Ballymoney at 9:00am as all busses need to be in and out of the Stormont Estate by 11:00am. Platform proceedings will commence at 12:00 noon and Parade will follow at 1:00 pm. Food\, toilet facilities and platform proceedings will be available throughout the Stormont Estate. A large mini-bus will be with us in parade to carry those unable to walk. \nCome out and show your support for our wee country and lets remind everyone of its proud history. \n 
URL:https://iloi.org/event/northern-ireland-centenary-parade/
LOCATION:Parliament Buildings\, Stormont\, Upper Newtownards Road\, Belfast\, BT4 3SH\, United Kingdom
CATEGORIES:ICONIC
ATTACH;FMTTYPE=image/jpeg:https://iloi.org/wp-content/uploads/2021/09/Northern-Ireland.jpg
END:VEVENT
END:VCALENDAR