BEGIN:VCALENDAR
VERSION:2.0
PRODID:-//Independent Loyal Orange Institution - ECPv6.15.13.1//NONSGML v1.0//EN
CALSCALE:GREGORIAN
METHOD:PUBLISH
X-WR-CALNAME:Independent Loyal Orange Institution
X-ORIGINAL-URL:https://iloi.org
X-WR-CALDESC:Events for Independent Loyal Orange Institution
REFRESH-INTERVAL;VALUE=DURATION:PT1H
X-Robots-Tag:noindex
X-PUBLISHED-TTL:PT1H
BEGIN:VTIMEZONE
TZID:Europe/London
BEGIN:DAYLIGHT
TZOFFSETFROM:+0000
TZOFFSETTO:+0100
TZNAME:BST
DTSTART:20220327T010000
END:DAYLIGHT
BEGIN:STANDARD
TZOFFSETFROM:+0100
TZOFFSETTO:+0000
TZNAME:GMT
DTSTART:20221030T010000
END:STANDARD
BEGIN:DAYLIGHT
TZOFFSETFROM:+0000
TZOFFSETTO:+0100
TZNAME:BST
DTSTART:20230326T010000
END:DAYLIGHT
BEGIN:STANDARD
TZOFFSETFROM:+0100
TZOFFSETTO:+0000
TZNAME:GMT
DTSTART:20231029T010000
END:STANDARD
BEGIN:DAYLIGHT
TZOFFSETFROM:+0000
TZOFFSETTO:+0100
TZNAME:BST
DTSTART:20240331T010000
END:DAYLIGHT
BEGIN:STANDARD
TZOFFSETFROM:+0100
TZOFFSETTO:+0000
TZNAME:GMT
DTSTART:20241027T010000
END:STANDARD
END:VTIMEZONE
BEGIN:VEVENT
DTSTART;TZID=Europe/London:20230510T200000
DTEND;TZID=Europe/London:20230510T220000
DTSTAMP:20260421T060715
CREATED:20230509T174023Z
LAST-MODIFIED:20230509T174023Z
UID:88571-1683748800-1683756000@iloi.org
SUMMARY:Legacy Lecture
DESCRIPTION:WEDNESDAY 10th May 2022 will be the second George Dawson legacy Lecture to mark the Anniversary of the passing of our highly esteemed friend\, Rt. Wor. Bro George Dawson P.I.G.M. The guest speaker will be Dr. David Hume\, historian who will reflect on George’s contribution to Orangesim. The venue will be the George Dawson room in the Independent Loyal Orange Institution Headquarters\, Edward St\, Ballymoney\, commencing at 8pm. Regalia to be worn.
URL:https://iloi.org/event/legacy-lecture-2/
LOCATION:ILOI Head-Quarters\, Edward Street\, Ballymoney
CATEGORIES:Legacy Lecture
ATTACH;FMTTYPE=image/png:https://iloi.org/wp-content/uploads/2023/05/Open-lecture-invites-2023.png
END:VEVENT
END:VCALENDAR