BEGIN:VCALENDAR
VERSION:2.0
PRODID:-//Independent Loyal Orange Institution - ECPv6.15.13.1//NONSGML v1.0//EN
CALSCALE:GREGORIAN
METHOD:PUBLISH
X-WR-CALNAME:Independent Loyal Orange Institution
X-ORIGINAL-URL:https://iloi.org
X-WR-CALDESC:Events for Independent Loyal Orange Institution
REFRESH-INTERVAL;VALUE=DURATION:PT1H
X-Robots-Tag:noindex
X-PUBLISHED-TTL:PT1H
BEGIN:VTIMEZONE
TZID:Europe/London
BEGIN:DAYLIGHT
TZOFFSETFROM:+0000
TZOFFSETTO:+0100
TZNAME:BST
DTSTART:20190331T010000
END:DAYLIGHT
BEGIN:STANDARD
TZOFFSETFROM:+0100
TZOFFSETTO:+0000
TZNAME:GMT
DTSTART:20191027T010000
END:STANDARD
BEGIN:DAYLIGHT
TZOFFSETFROM:+0000
TZOFFSETTO:+0100
TZNAME:BST
DTSTART:20200329T010000
END:DAYLIGHT
BEGIN:STANDARD
TZOFFSETFROM:+0100
TZOFFSETTO:+0000
TZNAME:GMT
DTSTART:20201025T010000
END:STANDARD
BEGIN:DAYLIGHT
TZOFFSETFROM:+0000
TZOFFSETTO:+0100
TZNAME:BST
DTSTART:20210328T010000
END:DAYLIGHT
BEGIN:STANDARD
TZOFFSETFROM:+0100
TZOFFSETTO:+0000
TZNAME:GMT
DTSTART:20211031T010000
END:STANDARD
END:VTIMEZONE
BEGIN:VEVENT
DTSTART;TZID=Europe/London:20200715T000000
DTEND;TZID=Europe/London:20200930T000000
DTSTAMP:20260425T172031
CREATED:20200708T234825Z
LAST-MODIFIED:20200714T132828Z
UID:85231-1594771200-1601424000@iloi.org
SUMMARY:Behind the Banners
DESCRIPTION:Banners evolved from large flags which were common in the later 1800s. Their origins lie in the tradition of regimental colours\, carried to identify and provide a rallying point for different units in battle. The military origins of the Orange Order meant that lodges adopted the carrying of colours when on parade.  \nThese traditionally carry mottoes\, the name and location of the lodge and over time saw the addition of elaborate works of art. Tradition holds that King William is on the front\, with the lodge symbolically still marching behind their king. However the reverse is very much up to the democratic decision of the lodge. \nThis year these banners will not be on parade leading lodges but instead we will showcase them in an online exhibition. \nWatch and learn the meaning and message behind each banner and the stories of how they are made. Often as they are paraded each year spectators don’t have the time to study each banner as one follows fast upon another. So take your time this year as we show a selection of our lodges banners and build an exhibition which will not only tell the story of each lodge but build to tell the whole story of our faith\, history and Orange story.
URL:https://iloi.org/event/behind-the-banners/
CATEGORIES:Online Exhibition
ATTACH;FMTTYPE=image/jpeg:https://iloi.org/wp-content/uploads/2020/07/27133374694_f837f31162_k.jpg
END:VEVENT
END:VCALENDAR