BEGIN:VCALENDAR
VERSION:2.0
PRODID:-//Independent Loyal Orange Institution - ECPv6.15.13.1//NONSGML v1.0//EN
CALSCALE:GREGORIAN
METHOD:PUBLISH
X-WR-CALNAME:Independent Loyal Orange Institution
X-ORIGINAL-URL:https://iloi.org
X-WR-CALDESC:Events for Independent Loyal Orange Institution
REFRESH-INTERVAL;VALUE=DURATION:PT1H
X-Robots-Tag:noindex
X-PUBLISHED-TTL:PT1H
BEGIN:VTIMEZONE
TZID:Europe/London
BEGIN:DAYLIGHT
TZOFFSETFROM:+0000
TZOFFSETTO:+0100
TZNAME:BST
DTSTART:20240331T010000
END:DAYLIGHT
BEGIN:STANDARD
TZOFFSETFROM:+0100
TZOFFSETTO:+0000
TZNAME:GMT
DTSTART:20241027T010000
END:STANDARD
BEGIN:DAYLIGHT
TZOFFSETFROM:+0000
TZOFFSETTO:+0100
TZNAME:BST
DTSTART:20250330T010000
END:DAYLIGHT
BEGIN:STANDARD
TZOFFSETFROM:+0100
TZOFFSETTO:+0000
TZNAME:GMT
DTSTART:20251026T010000
END:STANDARD
BEGIN:DAYLIGHT
TZOFFSETFROM:+0000
TZOFFSETTO:+0100
TZNAME:BST
DTSTART:20260329T010000
END:DAYLIGHT
BEGIN:STANDARD
TZOFFSETFROM:+0100
TZOFFSETTO:+0000
TZNAME:GMT
DTSTART:20261025T010000
END:STANDARD
END:VTIMEZONE
BEGIN:VEVENT
DTSTART;TZID=Europe/London:20250508T193000
DTEND;TZID=Europe/London:20250508T223000
DTSTAMP:20260419T171513
CREATED:20250428T183305Z
LAST-MODIFIED:20250428T183539Z
UID:88911-1746732600-1746743400@iloi.org
SUMMARY:VE Day Parade
DESCRIPTION:All members of the Loyal Orders local Bands and the general public are invited to join us for a VE Day Parade. It’s our traditional way of marking the 80th Anniversary of Victory in Europe. It will follow in the tradition of parades held in support of the war effort such as the ‘Salute the Soldier’ initiative launched to boost the war effort and raise much needed funds. Towns and villages across the UK pledged to raise funds and the parade of servicemen and other emergency service was the centrepiece. \nLocally Portglenone held their parade on 9 May 1944 followed by a fundraising dance ensuring that the village and local area exceeded their target of £10\,000. When the war ended parades of course resumed and Thanksgiving Services were held locally often preceded by a parade. \nOur parade therefore is to honour not only the men and women ion the armed forces but those who played a valuable role on the home front and those who raised funds and morale\, took in evacuated children and kept the country running in the face of total war. \nWe request all members of the Loyal Orders wear their colours and also invite families and children to join us and if they are members of uniformed youth organisations they will be most welcome in their uniforms. \nThe parade will form up at McNeillstown Orange Hall at the junction with the Lisnahunshin Road and Blackstone Road\, parading to McNeillstown Independent Orange Hall. Here refreshments will be served and an exhibition and War themed activities will entertain and educate until 9pm when a short Act of Commemoration and Service of Thanksgiving will be conducted before the Beacon Lighting at 9.30 pm in line with the rest of the VE Day Beacons across the UK
URL:https://iloi.org/event/ve-day-parade/
LOCATION:McNeillstown Independent Orange Hall\, 15 Blackstone Road\, Portglenone\, BT448HB\, United Kingdom
CATEGORIES:Parade,War Memorial
ATTACH;FMTTYPE=image/jpeg:https://iloi.org/wp-content/uploads/2025/04/VE_DAY_80th_final2__27199-1.jpg
END:VEVENT
END:VCALENDAR