BEGIN:VCALENDAR
VERSION:2.0
PRODID:-//Independent Loyal Orange Institution - ECPv6.15.13.1//NONSGML v1.0//EN
CALSCALE:GREGORIAN
METHOD:PUBLISH
X-WR-CALNAME:Independent Loyal Orange Institution
X-ORIGINAL-URL:https://iloi.org
X-WR-CALDESC:Events for Independent Loyal Orange Institution
REFRESH-INTERVAL;VALUE=DURATION:PT1H
X-Robots-Tag:noindex
X-PUBLISHED-TTL:PT1H
BEGIN:VTIMEZONE
TZID:Europe/London
BEGIN:DAYLIGHT
TZOFFSETFROM:+0000
TZOFFSETTO:+0100
TZNAME:BST
DTSTART:20200329T010000
END:DAYLIGHT
BEGIN:STANDARD
TZOFFSETFROM:+0100
TZOFFSETTO:+0000
TZNAME:GMT
DTSTART:20201025T010000
END:STANDARD
BEGIN:DAYLIGHT
TZOFFSETFROM:+0000
TZOFFSETTO:+0100
TZNAME:BST
DTSTART:20210328T010000
END:DAYLIGHT
BEGIN:STANDARD
TZOFFSETFROM:+0100
TZOFFSETTO:+0000
TZNAME:GMT
DTSTART:20211031T010000
END:STANDARD
BEGIN:DAYLIGHT
TZOFFSETFROM:+0000
TZOFFSETTO:+0100
TZNAME:BST
DTSTART:20220327T010000
END:DAYLIGHT
BEGIN:STANDARD
TZOFFSETFROM:+0100
TZOFFSETTO:+0000
TZNAME:GMT
DTSTART:20221030T010000
END:STANDARD
END:VTIMEZONE
BEGIN:VEVENT
DTSTART;VALUE=DATE:20210712
DTEND;VALUE=DATE:20210713
DTSTAMP:20260422T205444
CREATED:20210701T110000Z
LAST-MODIFIED:20210707T132510Z
UID:87368-1626048000-1626134399@iloi.org
SUMMARY:Virtually Normal Twelfth
DESCRIPTION:Join Us Online for our Virtually Normal Twelfth as this year we are almost back to normal. However with no Twelfth field we will be bringing you all the best bits direct to your device. So enjoy the sights and sounds of the Twelfth Field in your own garden or hall.\nOur Read Along Resolutions and Online speeches will capture that important part of the day where we focus on what we stand for and believe. \n \n  \n 
URL:https://iloi.org/event/virtual-twelfth-3/
LOCATION:ILOI Head-Quarters\, Edward Street\, Ballymoney
CATEGORIES:Twelfth Parade,Virtual Twelfth Event
ATTACH;FMTTYPE=image/png:https://iloi.org/wp-content/uploads/2021/02/Screenshot-2021-06-21-at-11.02.04.png
END:VEVENT
END:VCALENDAR