BEGIN:VCALENDAR
VERSION:2.0
PRODID:-//Independent Loyal Orange Institution - ECPv6.15.13.1//NONSGML v1.0//EN
CALSCALE:GREGORIAN
METHOD:PUBLISH
X-WR-CALNAME:Independent Loyal Orange Institution
X-ORIGINAL-URL:https://iloi.org
X-WR-CALDESC:Events for Independent Loyal Orange Institution
REFRESH-INTERVAL;VALUE=DURATION:PT1H
X-Robots-Tag:noindex
X-PUBLISHED-TTL:PT1H
BEGIN:VTIMEZONE
TZID:Europe/London
BEGIN:DAYLIGHT
TZOFFSETFROM:+0000
TZOFFSETTO:+0100
TZNAME:BST
DTSTART:20210328T010000
END:DAYLIGHT
BEGIN:STANDARD
TZOFFSETFROM:+0100
TZOFFSETTO:+0000
TZNAME:GMT
DTSTART:20211031T010000
END:STANDARD
BEGIN:DAYLIGHT
TZOFFSETFROM:+0000
TZOFFSETTO:+0100
TZNAME:BST
DTSTART:20220327T010000
END:DAYLIGHT
BEGIN:STANDARD
TZOFFSETFROM:+0100
TZOFFSETTO:+0000
TZNAME:GMT
DTSTART:20221030T010000
END:STANDARD
BEGIN:DAYLIGHT
TZOFFSETFROM:+0000
TZOFFSETTO:+0100
TZNAME:BST
DTSTART:20230326T010000
END:DAYLIGHT
BEGIN:STANDARD
TZOFFSETFROM:+0100
TZOFFSETTO:+0000
TZNAME:GMT
DTSTART:20231029T010000
END:STANDARD
END:VTIMEZONE
BEGIN:VEVENT
DTSTART;TZID=Europe/London:20221105T080000
DTEND;TZID=Europe/London:20221105T080000
DTSTAMP:20260421T172247
CREATED:20210211T124340Z
LAST-MODIFIED:20220116T173341Z
UID:87372-1667635200-1667635200@iloi.org
SUMMARY:Commemoration of the Landing of King William
DESCRIPTION:Wyck\, Jan; William III Landing at Brixham\, Torbay\, 5 November 1688; National Maritime Museum; http://www.artuk.org/artworks/william-iii-landing-at-brixham-torbay-5-november-1688-176186\nThe Glorious Fifth – the Fifth of November\nThe Glorious Revolution of 1688\, which shaped our Parliamentary Democratic Constitution and ensured a foundation for the freedoms we still enjoy today began when William Prince of Orange set foot in England on 5 November 1688. \nThe landing has been marked since and this year we will be going online to commemorate the events leading up to Williams successful claim to the throne. While known as the bloodless revolutions and aside from the Battle of Reading there were no real battles in England\, we are well aware of the loss of life and the sacrifices made by his supporters in Ireland. \nThe Glorious 5th November marks not only this Great Deliverance from ‘Popery and Arbitrary Power’ with the creation of a balanced Constitutional monarchy with the place of Parliament established and the path to democracy set; but also the deliverance from the Gunpowder Plot earlier in the century. \nTraditionally Orange Lodges would meet on or close to this date to commemorate the events\, that double deliverance of what was to become our British democracy. With COVID Restrictions we are taking this opportunity to mark this traditional anniversary at home with a commemorative dinner and then a traditional bonfire night.
URL:https://iloi.org/event/commemoration-of-the-landing-of-king-william-2/
LOCATION:Virtual Twelfth Website
CATEGORIES:Bonfire Night,Virtual Event
ATTACH;FMTTYPE=image/jpeg:https://iloi.org/wp-content/uploads/2020/10/bhc0326.jpg
END:VEVENT
END:VCALENDAR